BEGIN:VCALENDAR
VERSION:2.0
PRODID:-//XperienceIT - ECPv6.15.20//NONSGML v1.0//EN
CALSCALE:GREGORIAN
METHOD:PUBLISH
X-WR-CALNAME:XperienceIT
X-ORIGINAL-URL:https://www.xperienceit.com
X-WR-CALDESC:Events for XperienceIT
REFRESH-INTERVAL;VALUE=DURATION:PT1H
X-Robots-Tag:noindex
X-PUBLISHED-TTL:PT1H
BEGIN:VTIMEZONE
TZID:America/New_York
BEGIN:DAYLIGHT
TZOFFSETFROM:-0500
TZOFFSETTO:-0400
TZNAME:EDT
DTSTART:20170312T070000
END:DAYLIGHT
BEGIN:STANDARD
TZOFFSETFROM:-0400
TZOFFSETTO:-0500
TZNAME:EST
DTSTART:20171105T060000
END:STANDARD
BEGIN:DAYLIGHT
TZOFFSETFROM:-0500
TZOFFSETTO:-0400
TZNAME:EDT
DTSTART:20180311T070000
END:DAYLIGHT
BEGIN:STANDARD
TZOFFSETFROM:-0400
TZOFFSETTO:-0500
TZNAME:EST
DTSTART:20181104T060000
END:STANDARD
BEGIN:DAYLIGHT
TZOFFSETFROM:-0500
TZOFFSETTO:-0400
TZNAME:EDT
DTSTART:20190310T070000
END:DAYLIGHT
BEGIN:STANDARD
TZOFFSETFROM:-0400
TZOFFSETTO:-0500
TZNAME:EST
DTSTART:20191103T060000
END:STANDARD
BEGIN:DAYLIGHT
TZOFFSETFROM:-0500
TZOFFSETTO:-0400
TZNAME:EDT
DTSTART:20200308T070000
END:DAYLIGHT
BEGIN:STANDARD
TZOFFSETFROM:-0400
TZOFFSETTO:-0500
TZNAME:EST
DTSTART:20201101T060000
END:STANDARD
BEGIN:DAYLIGHT
TZOFFSETFROM:-0500
TZOFFSETTO:-0400
TZNAME:EDT
DTSTART:20210314T070000
END:DAYLIGHT
BEGIN:STANDARD
TZOFFSETFROM:-0400
TZOFFSETTO:-0500
TZNAME:EST
DTSTART:20211107T060000
END:STANDARD
BEGIN:DAYLIGHT
TZOFFSETFROM:-0500
TZOFFSETTO:-0400
TZNAME:EDT
DTSTART:20220313T070000
END:DAYLIGHT
BEGIN:STANDARD
TZOFFSETFROM:-0400
TZOFFSETTO:-0500
TZNAME:EST
DTSTART:20221106T060000
END:STANDARD
BEGIN:DAYLIGHT
TZOFFSETFROM:-0500
TZOFFSETTO:-0400
TZNAME:EDT
DTSTART:20230312T070000
END:DAYLIGHT
BEGIN:STANDARD
TZOFFSETFROM:-0400
TZOFFSETTO:-0500
TZNAME:EST
DTSTART:20231105T060000
END:STANDARD
BEGIN:DAYLIGHT
TZOFFSETFROM:-0500
TZOFFSETTO:-0400
TZNAME:EDT
DTSTART:20240310T070000
END:DAYLIGHT
BEGIN:STANDARD
TZOFFSETFROM:-0400
TZOFFSETTO:-0500
TZNAME:EST
DTSTART:20241103T060000
END:STANDARD
BEGIN:DAYLIGHT
TZOFFSETFROM:-0500
TZOFFSETTO:-0400
TZNAME:EDT
DTSTART:20250309T070000
END:DAYLIGHT
BEGIN:STANDARD
TZOFFSETFROM:-0400
TZOFFSETTO:-0500
TZNAME:EST
DTSTART:20251102T060000
END:STANDARD
BEGIN:DAYLIGHT
TZOFFSETFROM:-0500
TZOFFSETTO:-0400
TZNAME:EDT
DTSTART:20260308T070000
END:DAYLIGHT
BEGIN:STANDARD
TZOFFSETFROM:-0400
TZOFFSETTO:-0500
TZNAME:EST
DTSTART:20261101T060000
END:STANDARD
END:VTIMEZONE
BEGIN:VTIMEZONE
TZID:Europe/Madrid
BEGIN:DAYLIGHT
TZOFFSETFROM:+0100
TZOFFSETTO:+0200
TZNAME:CEST
DTSTART:20240331T010000
END:DAYLIGHT
BEGIN:STANDARD
TZOFFSETFROM:+0200
TZOFFSETTO:+0100
TZNAME:CET
DTSTART:20241027T010000
END:STANDARD
BEGIN:DAYLIGHT
TZOFFSETFROM:+0100
TZOFFSETTO:+0200
TZNAME:CEST
DTSTART:20250330T010000
END:DAYLIGHT
BEGIN:STANDARD
TZOFFSETFROM:+0200
TZOFFSETTO:+0100
TZNAME:CET
DTSTART:20251026T010000
END:STANDARD
BEGIN:DAYLIGHT
TZOFFSETFROM:+0100
TZOFFSETTO:+0200
TZNAME:CEST
DTSTART:20260329T010000
END:DAYLIGHT
BEGIN:STANDARD
TZOFFSETFROM:+0200
TZOFFSETTO:+0100
TZNAME:CET
DTSTART:20261025T010000
END:STANDARD
END:VTIMEZONE
BEGIN:VTIMEZONE
TZID:America/New_York
BEGIN:DAYLIGHT
TZOFFSETFROM:-0500
TZOFFSETTO:-0400
TZNAME:EDT
DTSTART:20190310T070000
END:DAYLIGHT
BEGIN:STANDARD
TZOFFSETFROM:-0400
TZOFFSETTO:-0500
TZNAME:EST
DTSTART:20191103T060000
END:STANDARD
BEGIN:DAYLIGHT
TZOFFSETFROM:-0500
TZOFFSETTO:-0400
TZNAME:EDT
DTSTART:20200308T070000
END:DAYLIGHT
BEGIN:STANDARD
TZOFFSETFROM:-0400
TZOFFSETTO:-0500
TZNAME:EST
DTSTART:20201101T060000
END:STANDARD
BEGIN:DAYLIGHT
TZOFFSETFROM:-0500
TZOFFSETTO:-0400
TZNAME:EDT
DTSTART:20210314T070000
END:DAYLIGHT
BEGIN:STANDARD
TZOFFSETFROM:-0400
TZOFFSETTO:-0500
TZNAME:EST
DTSTART:20211107T060000
END:STANDARD
BEGIN:DAYLIGHT
TZOFFSETFROM:-0500
TZOFFSETTO:-0400
TZNAME:EDT
DTSTART:20220313T070000
END:DAYLIGHT
BEGIN:STANDARD
TZOFFSETFROM:-0400
TZOFFSETTO:-0500
TZNAME:EST
DTSTART:20221106T060000
END:STANDARD
BEGIN:DAYLIGHT
TZOFFSETFROM:-0500
TZOFFSETTO:-0400
TZNAME:EDT
DTSTART:20230312T070000
END:DAYLIGHT
BEGIN:STANDARD
TZOFFSETFROM:-0400
TZOFFSETTO:-0500
TZNAME:EST
DTSTART:20231105T060000
END:STANDARD
END:VTIMEZONE
BEGIN:VEVENT
DTSTART;TZID=America/New_York:20251018T090000
DTEND;TZID=America/New_York:20251018T163000
DTSTAMP:20260425T183320
CREATED:20250701T223848Z
LAST-MODIFIED:20250701T224044Z
UID:14889-1760778000-1760805000@www.xperienceit.com
SUMMARY:Barry Johnson and Cliff Kayser are keynote speakers for the 2025 CBODN Annual Conference - CONNECT 2025
DESCRIPTION:Join Barry Johnson and Cliff Kayser  (keynote speakers) at the 2025 CBODN Annual Conference – CONNECT 2025! \n  \n\n \n 
URL:https://www.xperienceit.com/event/barry-johnson-and-cliff-kayser-are-keynote-speakers-for-the-2025-cbodn-annual-conference-connect-2025/
LOCATION:George Mason University\, 3351 Fairfax Dr\, Arlington\, Virginia\, 22201\, United States
CATEGORIES:Speaking Engagement
ATTACH;FMTTYPE=image/jpeg:https://www.xperienceit.com/wp-content/uploads/Cliff-2021.jpg
END:VEVENT
BEGIN:VEVENT
DTSTART;TZID=Europe/Madrid:20250903T163000
DTEND;TZID=Europe/Madrid:20250903T180000
DTSTAMP:20260425T183320
CREATED:20250504T172221Z
LAST-MODIFIED:20250717T230445Z
UID:14874-1756917000-1756922400@www.xperienceit.com
SUMMARY:Bridging Polarities - Bonus Event
DESCRIPTION:Bridging Polarities\nOn June 17 we had a rich and powerful session with Barry and Cliff\, to help your development process by improving the speed\, attainability and sustainability by leveraging polarity tensions within and between IDGs and SDGs.\nMany of you asked for more\, and we are happy to say: YES! There will be a bonus session with focus on application!\nYou are welcome to join this session even if you missed the first session. You will get access to it once you register.\nAbout the event\nSince 1975\, Barry Johnson has been pioneering the theory and practice of polarities—interdependent pairs that require thinking/acting in “Both/And” to be effective in inner and outer development\, over time. His recent book\, “And: How to Leverage Polarity\, Paradox\, and Dilemma\, Volume 1 – Foundations”\, offers a transformative lens for understanding how polarities operate in human systems—and how to harness their power in practice. \nIn this session\, Barry Johnson and Cliff Kayser (IDG Ambassador\, Aconcagua Cohort) will guide participants through a dynamic introduction to polarity thinking. You’ll gain essential awareness and tools to better embrace polarity tensions—both individually and collectively—as a way to bridge the gap between today’s complex challenges and the future we aspire to create. \nTogether\, we’ll explore why we get stuck\, and how we can move forward with greater wisdom\, agility\, and impact. This session will deepen your existing polarity wisdom and accelerate your capacity to hold complexity with compassion\, cultivate resilience\, and align inner development with systemic transformation. You’ll leave better equipped to contribute to the advancement of both the IDG’s and SDGs. \n  \nAbout the speakers\nDr. Barry Johnson is the creator of the Polarity Map® and a pioneer in Polarity Thinking®\, a framework that helps leaders and organizations navigate complex\, interdependent challenges. Since developing the first Polarity Map® in 1975\, he has worked globally to promote “both/and”; thinking over traditional “either/or”; approaches\, enhancing decision-making and organizational effectiveness. \nAs Chairman of Polarity Partnerships\, Dr. Johnson has introduced the Polarity Approach to Continuity and Transformation (PACT™)\, a methodology that includes tools like the Polarity Assessment™ to help organizations leverage polarities essential to their success. \nHe is the author of several influential books\, including Polarity Management: Identifying and Managing Unsolvable Problems and the two-volume series And: Making a Difference by Leveraging Polarity\, Paradox or Dilemma \nDr. Johnson holds a Ph.D. in organization development and has extensive training from the Gestalt Institute of Cleveland. His work is widely applied across sectors such as business\, government\, education\, and healthcare. \n  \nCliff Kayser is a seasoned leadership coach\, organizational consultant\, and thought leader based in Washington\, D.C.\, with deep expertise in values-based leadership and polarity thinking. He serves as Chief Learning Officer at Polarity Partnerships and is the founder of both the Polarities of Democracy Institute and Xperience\, LLC—organizations dedicated to helping leaders and institutions navigate complex challenges through the power of both/and thinking. \nCliff’s approach integrates Eastern wisdom traditions with contemporary leadership science\, blending philosophical insight with practical tools for performance measurement and organizational change. From his “happy place”—a 40-acre mountain retreat in Berkeley Springs\, West Virginia—he hosts and facilitates purpose-driven dialogues and renewal-focused retreats. \nIn 2024\, Cliff was named an Ambassador for the Inner Development Goals (Aconcagua Cohort)\, a global\, open-source initiative supporting the cultivation of inner capacities essential to achieving the United Nations Sustainable Development Goals—and advancing human flourishing on a healthy planet. \nCliff is an adjunct faculty at George Mason’s Center for the Advancement of Well-Being’s “Leadership Coaching for Organizational Well-Being” program and American University’s “KEY Executive Leadership” program. \nLearn more here!
URL:https://www.xperienceit.com/event/bridging-polarities/
LOCATION:Webinar
CATEGORIES:Speaking Engagement,Webinar
ATTACH;FMTTYPE=image/jpeg:https://www.xperienceit.com/wp-content/uploads/Xperience-slide-bridge2.jpg
END:VEVENT
BEGIN:VEVENT
DTSTART;TZID=America/New_York:20250808T100000
DTEND;TZID=America/New_York:20250808T113000
DTSTAMP:20260425T183320
CREATED:20250804T235613Z
LAST-MODIFIED:20250804T235613Z
UID:14914-1754647200-1754652600@www.xperienceit.com
SUMMARY:A "sneak peek" into the IDG Summit theme of "Bridging Polarities: From Inner Growth to Outer Change"
DESCRIPTION:Join the Inner Development Goals (IDGs) Global Coaches Network (GCN) for our next session with Cliff Kayser\, Chief Learning Officer for Polarity Partnerships\, and IDG Ambassador. \nThis session will drive home the idea that supplementing technical leadership with adaptive “both/and” capacities is essential for sustainable inner and outer transformation. Polarity Thinking is a powerful framework coaches can use to amplify awareness of interdependency and how these interdependencies show up in the “big picture” of the IDG And SDG polarity\, and within ten primary polarities within the IDG Dimensions. \nObjectives:\nExplore the IDGs And SDGs as a polarity to leverage\nExplore the 10 Polarities of the IDG Dimensions\nPractice Coaching a Client Through an IDG Polarity using the Polarity Map \n8/8/25 10-11:30 am EST \nJoin Zoom Meeting\nhttps://us02web.zoom.us/j/82674348561?pwd=CaCgkErTbcJENPoVXC8qZ8mVB7zCDj.1\nMeeting ID: 826 7434 8561\nPasscode: 866327
URL:https://www.xperienceit.com/event/a-sneak-peek-into-the-idg-summit-theme-of-bridging-polarities-from-inner-growth-to-outer-change/
LOCATION:Webinar
CATEGORIES:Speaking Engagement,Webinar
ATTACH;FMTTYPE=image/jpeg:https://www.xperienceit.com/wp-content/uploads/Cliff-2021.jpg
END:VEVENT
BEGIN:VEVENT
DTSTART;TZID=America/New_York:20250311T163000
DTEND;TZID=America/New_York:20250311T174500
DTSTAMP:20260425T183320
CREATED:20250212T135206Z
LAST-MODIFIED:20250212T140238Z
UID:14669-1741710600-1741715100@www.xperienceit.com
SUMMARY:AI Coaches? Unpacking Human/AI Coaching for Coaches & the Coaching Profession
DESCRIPTION:Presented by Cliff Kayser\, PCC\nLearning strand: AI & Coaching\nProgram Description: \nHow will the growing availability of AI-driven Coaches revolutionize and upend the coaching profession? As a Human Coach\, how will you survive and thrive in a world in which the availability of AI Coaches provides 24/7 availability\, personalized feedback\, and tailored data-driven resources analysis and options for moving forward in real-time? \nIn this interactive session\, Human Coach participants will unpack some critical considerations present now and\, in the future\, using the Polarity Approach and Polarity Map® to unpack and design strategies to leverage the challenges\, and opportunities. There’s good news and bad news about this session – and let’s get the bad news out of way first. \nThe BAD NEWS: This session won’t alleviate the tension for us Human Coaches who might be feeling threatened by the prospects of the reality of AI Coaches entering the Human coaching profession space and any hope they won’t ever have to confront the issue\, because the issue isn’t going away now or in the future. Now on to the GOOD NEWS! \nThe session will provide a safe space for Human Coach participants (no AI Coaches will be in attendance!) to confront values and fears that may be present for them in the tension — head-on.  By confronting brutal facts and reality/ies\, participants can explore what an embrace for challenges looks like and perhaps even create some excitement about the opportunities and possibilities to best support client growth and development. At least\, participants will share an experience together that applies a powerful Human Coaching tool and process — the Polarity Map® and Polarity Approach (the 5-Steps of “S.M.A.L.L.” Seeing\, Mapping\, Assessing\, Learning\, and Leveraging) for this real-time and real-world issue.  Outcomes include seeing a more complete view of the realities and possibilities for client growth and development outside an “Either/Or” mindset\, leveraging our Human – intelligence and being. tiific \nLearning Objectives: \n\nlearn/apply the Polarity Approach (the 5-step “S.M.A.L.L.” Process: Seeing\, Mapping\, Assessing\, Learning\, and Leveraging) for the polarity of: AI Coach and Human Coach\nexplore Stability and Change in the context of designing and developing of leveraging strategies\n\nREGISTER HERE
URL:https://www.xperienceit.com/event/ai-coaches-unpacking-human-ai-coaching-for-coaches-the-coaching-profession/
LOCATION:Webinar
CATEGORIES:Speaking Engagement,Webinar
ATTACH;FMTTYPE=image/jpeg:https://www.xperienceit.com/wp-content/uploads/Xperience-slide-bg2.jpg
END:VEVENT
BEGIN:VEVENT
DTSTART;TZID=America/New_York:20241107T110000
DTEND;TZID=America/New_York:20241107T123000
DTSTAMP:20260425T183320
CREATED:20241024T125756Z
LAST-MODIFIED:20241213T185255Z
UID:14646-1730977200-1730982600@www.xperienceit.com
SUMMARY:Cliff to be a featured expert Think Tank speaker on November 7
DESCRIPTION:Register Here! \n  \n  \n  \n 
URL:https://www.xperienceit.com/event/cliff-to-be-a-featured-expert-think-tank-speaker-on-november-7/
LOCATION:Zoom Webinar
CATEGORIES:Speaking Engagement
ATTACH;FMTTYPE=image/png:https://www.xperienceit.com/wp-content/uploads/tt2.png
END:VEVENT
BEGIN:VEVENT
DTSTART;TZID=America/New_York:20241010T133000
DTEND;TZID=America/New_York:20241010T143000
DTSTAMP:20260425T183320
CREATED:20240601T053006Z
LAST-MODIFIED:20240703T162759Z
UID:14580-1728567000-1728570600@www.xperienceit.com
SUMMARY:AI Coaches? Unpacking Human/AI Coaching for Coaches and the Coaching Profession
DESCRIPTION:AI Coaches? Unpacking Human/AI Coaching for Coaches and the Coaching Profession\n 1:30 pm – 2:30 pm  Salon 1\nHow will the rise of AI-driven coaches revolutionize and disrupt the coaching profession? As a human coach\, how can you survive and thrive in a world where AI offers 24/7 availability\, personalized feedback\, and real-time\, data-driven resources? In this interactive session\, human coaches will explore current and future challenges using the Polarity Approach and Polarity Map® to develop strategies for leveraging these opportunities.
URL:https://www.xperienceit.com/event/cliff-and-lori-kayser-interactive-session-at-the-capital-coaches-conference-presented-by-icf-metro-dc/
CATEGORIES:Speaking Engagement
ATTACH;FMTTYPE=image/png:https://www.xperienceit.com/wp-content/uploads/CK-ICF24.png
END:VEVENT
BEGIN:VEVENT
DTSTART;VALUE=DATE:20220922
DTEND;VALUE=DATE:20220924
DTSTAMP:20260425T183320
CREATED:20220527T145107Z
LAST-MODIFIED:20220527T145319Z
UID:14029-1663804800-1663977599@www.xperienceit.com
SUMMARY:LEVERAGING THE "PROBLEM AND PERSON" POLARITY AS COACHES with Wanda Savage-Moore\, ACC at the 2022 Capital Coaches Conference
DESCRIPTION:Join me at the 2022 Capital Coaches Conference this September 22-23! I’ll be facilitating a session entitled LEVERAGING THE “PROBLEM AND PERSON” POLARITY AS COACHES with Wanda Savage-Moore\, ACC. We are excited to contribute to the conversation about Coaching: Today\, Tomorrow\, and Beyond! \nThe Capital Coaches Conference is presented by ICF Metro DC and is for coaches of all levels of experience\, future coaches\, and complementary professionals. Learn more and secure your spot at www.capitalcoachesconference.org. \nEarly Bird pricing is available until May 31! \nRegistration fees are as follows: \n\n\n\nRegistration Type\nEARLY RATE\nOn or before 5/31/22\nREGULAR RATE Beginning 6/1/22\n\n\nICF Member\, any chapter\n$399\n$499\n\n\nICF Metro DC Affiliate Individual Member\n$399\n$499\n\n\nNon-Member\n$499\n$599\n\n\n\n 
URL:https://www.xperienceit.com/event/leveraging-the-problem-and-person-polarity-as-coaches-with-wanda-savage-moore-acc-at-the-2022-capital-coaches-conference/
LOCATION:Bethesda North Marriott
CATEGORIES:Speaking Engagement
ATTACH;FMTTYPE=image/png:https://www.xperienceit.com/wp-content/uploads/2022CCC.png
END:VEVENT
BEGIN:VEVENT
DTSTART;TZID=America/New_York:20210714T090000
DTEND;TZID=America/New_York:20210714T160000
DTSTAMP:20260425T183320
CREATED:20210510T205200Z
LAST-MODIFIED:20210510T205938Z
UID:13901-1626253200-1626278400@www.xperienceit.com
SUMMARY:Leadership Forum 2021 Summit: Leading to Repair - "And"\, The Grace Between Right or Wrong
DESCRIPTION:“And”\, The Grace Between Right or Wrong\nHow can Polarity Thinking help heal a community or organization?\nCliff Kayser MSOD\, MSHR\, PCC\nChandra Irvin\, M.Ed.\, MDIV\nMargaret Seidler\, MPA\n\n\n\n\n\n\n\n\n\n\n\n\n\n\n\n\n\n\n\n\n\n\n\nLearn about the power of “AND.” Participants leave the session invigorated with a renewed sense of empowerment and hope for a better future in our communities and workplaces. They begin to see the possibilities of the influential roles they can play going forward using a polarity lens. Participants surface their issues of interest\, where finding common ground\, in spite of differences\, can reverse the energy of resistance and polarization. \nThis session will focus on a case study on Polarity Thinking in the Charleston Illumination Project where the aim was to better society by giving equal voice to citizens\, finding common ground for the good of the whole community\, and adopting ideas for change embraced by a city police chief and his department in Charleston\, SC. With that foundation\, you will explore how a polarity lens can be utilized in reducing polarization and increasing willingness for healing and repairing within your organization and communities. \nThe Charleston Illumination Project grew out of the community response to a  race motivated mass shooting in a black church in Charleston\, SC in 2015. \n\n\nRegister for this online session here
URL:https://www.xperienceit.com/event/leadership-forum-2021-summit-leading-to-repair-and-the-grace-between-right-or-wrong/
CATEGORIES:Speaking Engagement
ATTACH;FMTTYPE=image/jpeg:https://www.xperienceit.com/wp-content/uploads/Cliff-2021.jpg
END:VEVENT
BEGIN:VEVENT
DTSTART;VALUE=DATE:20200402
DTEND;VALUE=DATE:20200405
DTSTAMP:20260425T183320
CREATED:20200207T125227Z
LAST-MODIFIED:20200302T144226Z
UID:13030-1585785600-1586044799@www.xperienceit.com
SUMMARY:Global Forum for Higher Education and Scientific Research (GFHS)
DESCRIPTION:  \nCliff Kayser will speak at the Global Forum for Higher Education and Scientific Research (GFHS)!\nThis year marks the second edition of The Global Forum for Higher Education and Scientific Research (GFHS). The first global initiative of its kind in Egypt. \nThe forum is organized under the auspices of H.E. President Abdel Fattah El Sisi at Al-Masa Capital premises on the 2nd-4th of April 2020. Gathering more than 1000 leaders\, influencers\, and practitioners from all over the world in the fields of scientific research\, innovation\, government\, higher education\, and philanthropy with the intention of conducting insightful action-oriented discussions and attaining wide-ranging perspectives for the purpose of envisioning the future of Higher Education and Scientific Research in a global\, interconnected\, and borderless world context. \nGFHS 2020 themes will be revolving around the inevitable quest of preparing youth to the continuously changing demands of the workforce primarily by adopting a “business ready” system in our higher education institutions. \nThe forum will also include an exhibition area for Higher Education and Scientific Research stakeholders showcasing their organizations’ potential and demonstrating their achievements on the employability levels. \nGFHS 2020; where the future is exclusively\, in action.
URL:https://www.xperienceit.com/event/global-forum-for-higher-education-and-scientific-research-gfhs/
LOCATION:Cairo\, Egypt
CATEGORIES:GFHS,Speaking Engagement
ATTACH;FMTTYPE=image/png:https://www.xperienceit.com/wp-content/uploads/gfhs2020-L.png
END:VEVENT
BEGIN:VEVENT
DTSTART;TZID=America/New_York:20181017T113000
DTEND;TZID=America/New_York:20181017T123000
DTSTAMP:20260425T183320
CREATED:20180919T154922Z
LAST-MODIFIED:20201031T150038Z
UID:12596-1539775800-1539779400@www.xperienceit.com
SUMMARY:Polarity Keys to Mentorship Program Success
DESCRIPTION:Presented at The International Association of Clinical Research Nurses (IACRN) 10th Anniversary Conference \n11:30 am – 12:30 pm \nPlenary Speaker: Polarity Keys to Mentorship Program Success (Crystal Ballroom\, lobby level) \nCliff Kayser\, MSHR\, MSOD\, PCC \nPresident & Founder\, Xperience\, LLC \n 
URL:https://www.xperienceit.com/event/polarity-keys-to-mentorship-program-success/
LOCATION:DoubleTree by Hilton Hotel\, 300 Army Navy Dr\, Arlington\, VA\, 22202\, United States
CATEGORIES:Speaking Engagement
ATTACH;FMTTYPE=image/jpeg:https://www.xperienceit.com/wp-content/uploads/stia2013-kayser2.jpg
END:VEVENT
BEGIN:VEVENT
DTSTART;TZID=America/New_York:20181002T180000
DTEND;TZID=America/New_York:20181002T193000
DTSTAMP:20260425T183320
CREATED:20180919T151303Z
LAST-MODIFIED:20201031T150055Z
UID:12591-1538503200-1538508600@www.xperienceit.com
SUMMARY:Leveraging Polarity Thinking for Coach and Client Development: Cultivating Competency for "Both/And" Thinking Webinar Series
DESCRIPTION:The International Coach Federation Maryland Chapter (ICF-MD) Professional Development Community of Practice Presents…\nLeveraging Polarity Thinking for Coach and Client Development: Cultivating Competency for “Both/And” Thinking Webinar Series\n\nPresenters: Cliff Kayser\, PCC and Joy Goldman\, RN\, MS\, PCC\nMonday\, September 17\, 2018 • 6:00 PM to 7:30 PM\nAND Tuesday\, October 2\, 2018 • 6:00 PM to 7:30 PM\nZoom Webinar: Two-Part Series\n** This is being offered as a two-part series\, with each webinar being offered as a stand-alone session as well. **\n$30 – ICF Member / Global Member | $40 – Non-Member (One Session ONLY)\n  \n$50 – ICF Member / Global Member | $60 – Non-Member\n(Webinar Series – Both 9/17 & 10/2 Sessions)\n*REGISTER HERE FOR WEBINAR SERIES*\nEarn 1.5 (each webinar) Core Competency CCEUs\nPolarities (aka Paradoxes\, Dilemmas\, Wicked Problems\, etc.) are unavoidable — we’re all “in” them\, whether we’re aware of them or not. When Polarities in issues and challenges are identified and leveraged well\, the end-goals and objectives can be attained with increased speed and sustainability. Coaches and Clients who leverage polarities well have a distinct performance advantage over the ones that don’t. \n9/17 kicks-off part one of a two-part series with an interactive focus on a key polarity all Coaches face in the coaching relationship. Learning and applying the Polarity Map® and process to a tension of our own\, will enable us to better apply the process with Clients. Part two on 10/2 brings attention to common polarity tensions Clients face and we’ll apply the same process interactively using the Polarity Map® to explore and organize the wisdom in the room. \nLearning objectives participants can expect to achieve are: \n\nImprove Coach and Client performance by providing an overview/awareness between solvable problems and unsolvable (but leverage-able) polarities;\nSimplify some of the complexity in the Coach / Client relationship;\nLearn how resistance in polarity tensions can be used as a resource; and\,\nSupport accelerating learning and development for Coaches and Clients.\n\nLearning Objectives:\nBy the end of part 1 (9/17 — COACH FOCUS)\, participants will be able to: \n\nDistinguish between solvable problems and unsolvable (but leverage-able) interdependent pairs or “polarities\,” and review a list of common polarities that all Coaches are “in”;\nSee and Map a polarity in the Coaching relationship using the Polarity Map®;\nSupport “leverage” (maximizing the upside benefits in the polarity tension and minimizing the downside limitations) by identifying Coaching Action Steps and Early Warning Signs.\n\nLearning Objectives:\nBy the end of part 2 (10/2 — CLIENT FOCUS)\, participants will be able to: \n\nDistinguish between a solvable problem and unsolvable interdependent pairs or “polarities\,” and review a list of common polarities that all Clients are “in”;\nSee and Map a polarity that has relevance for any client using the Polarity Map®;\n\nSupport “leverage” (maximizing the upside benefits and minimizing the downside limitations) by Identifying Coaching Action Steps and Early Warning Signs. \nParticipants will take a brief polarity assessment which will measure their perception of how well they leverage “Challenge” And “Support” in their coaching work. You will learn aggregate results during the webinars. This should only take five minutes or less to complete.
URL:https://www.xperienceit.com/event/leveraging-polarity-thinking-for-coach-and-client-development-cultivating-competency-for-both-and-thinking-webinar-series/
LOCATION:Zoom Webinar
CATEGORIES:Speaking Engagement,Webinar
ATTACH;FMTTYPE=image/jpeg:https://www.xperienceit.com/wp-content/uploads/cliff-portrait1.jpg
END:VEVENT
END:VCALENDAR