BEGIN:VCALENDAR
VERSION:2.0
PRODID:-//XperienceIT - ECPv6.15.20//NONSGML v1.0//EN
CALSCALE:GREGORIAN
METHOD:PUBLISH
X-ORIGINAL-URL:https://www.xperienceit.com
X-WR-CALDESC:Events for XperienceIT
REFRESH-INTERVAL;VALUE=DURATION:PT1H
X-Robots-Tag:noindex
X-PUBLISHED-TTL:PT1H
BEGIN:VTIMEZONE
TZID:America/New_York
BEGIN:DAYLIGHT
TZOFFSETFROM:-0500
TZOFFSETTO:-0400
TZNAME:EDT
DTSTART:20180311T070000
END:DAYLIGHT
BEGIN:STANDARD
TZOFFSETFROM:-0400
TZOFFSETTO:-0500
TZNAME:EST
DTSTART:20181104T060000
END:STANDARD
BEGIN:DAYLIGHT
TZOFFSETFROM:-0500
TZOFFSETTO:-0400
TZNAME:EDT
DTSTART:20190310T070000
END:DAYLIGHT
BEGIN:STANDARD
TZOFFSETFROM:-0400
TZOFFSETTO:-0500
TZNAME:EST
DTSTART:20191103T060000
END:STANDARD
BEGIN:DAYLIGHT
TZOFFSETFROM:-0500
TZOFFSETTO:-0400
TZNAME:EDT
DTSTART:20200308T070000
END:DAYLIGHT
BEGIN:STANDARD
TZOFFSETFROM:-0400
TZOFFSETTO:-0500
TZNAME:EST
DTSTART:20201101T060000
END:STANDARD
BEGIN:DAYLIGHT
TZOFFSETFROM:-0500
TZOFFSETTO:-0400
TZNAME:EDT
DTSTART:20210314T070000
END:DAYLIGHT
BEGIN:STANDARD
TZOFFSETFROM:-0400
TZOFFSETTO:-0500
TZNAME:EST
DTSTART:20211107T060000
END:STANDARD
END:VTIMEZONE
BEGIN:VTIMEZONE
TZID:America/New_York
BEGIN:DAYLIGHT
TZOFFSETFROM:-0500
TZOFFSETTO:-0400
TZNAME:EDT
DTSTART:20170312T070000
END:DAYLIGHT
BEGIN:STANDARD
TZOFFSETFROM:-0400
TZOFFSETTO:-0500
TZNAME:EST
DTSTART:20171105T060000
END:STANDARD
BEGIN:DAYLIGHT
TZOFFSETFROM:-0500
TZOFFSETTO:-0400
TZNAME:EDT
DTSTART:20180311T070000
END:DAYLIGHT
BEGIN:STANDARD
TZOFFSETFROM:-0400
TZOFFSETTO:-0500
TZNAME:EST
DTSTART:20181104T060000
END:STANDARD
BEGIN:DAYLIGHT
TZOFFSETFROM:-0500
TZOFFSETTO:-0400
TZNAME:EDT
DTSTART:20190310T070000
END:DAYLIGHT
BEGIN:STANDARD
TZOFFSETFROM:-0400
TZOFFSETTO:-0500
TZNAME:EST
DTSTART:20191103T060000
END:STANDARD
END:VTIMEZONE
BEGIN:VEVENT
DTSTART;VALUE=DATE:20200402
DTEND;VALUE=DATE:20200405
DTSTAMP:20260426T002107
CREATED:20200207T125227Z
LAST-MODIFIED:20200302T144226Z
UID:13030-1585785600-1586044799@www.xperienceit.com
SUMMARY:Global Forum for Higher Education and Scientific Research (GFHS)
DESCRIPTION:  \nCliff Kayser will speak at the Global Forum for Higher Education and Scientific Research (GFHS)!\nThis year marks the second edition of The Global Forum for Higher Education and Scientific Research (GFHS). The first global initiative of its kind in Egypt. \nThe forum is organized under the auspices of H.E. President Abdel Fattah El Sisi at Al-Masa Capital premises on the 2nd-4th of April 2020. Gathering more than 1000 leaders\, influencers\, and practitioners from all over the world in the fields of scientific research\, innovation\, government\, higher education\, and philanthropy with the intention of conducting insightful action-oriented discussions and attaining wide-ranging perspectives for the purpose of envisioning the future of Higher Education and Scientific Research in a global\, interconnected\, and borderless world context. \nGFHS 2020 themes will be revolving around the inevitable quest of preparing youth to the continuously changing demands of the workforce primarily by adopting a “business ready” system in our higher education institutions. \nThe forum will also include an exhibition area for Higher Education and Scientific Research stakeholders showcasing their organizations’ potential and demonstrating their achievements on the employability levels. \nGFHS 2020; where the future is exclusively\, in action.
URL:https://www.xperienceit.com/event/global-forum-for-higher-education-and-scientific-research-gfhs/
LOCATION:Cairo\, Egypt
CATEGORIES:GFHS,Speaking Engagement
ATTACH;FMTTYPE=image/png:https://www.xperienceit.com/wp-content/uploads/gfhs2020-L.png
END:VEVENT
BEGIN:VEVENT
DTSTART;TZID=America/New_York:20191024T170000
DTEND;TZID=America/New_York:20191027T120000
DTSTAMP:20260426T002107
CREATED:20181216T003135Z
LAST-MODIFIED:20201031T145948Z
UID:12757-1571936400-1572177600@www.xperienceit.com
SUMMARY:Polarity Foundations and Professional Applications Certification
DESCRIPTION:Would you like to register or chat? Email ckayser@xperienceit.com
URL:https://www.xperienceit.com/event/polarity-foundations-and-professional-applications-certification-5/
LOCATION:Kayser Ridge Retreat & Learning Center\, 375 Breakthrough Lane\, Berkeley Springs\, WV\, 25411\, United States
CATEGORIES:Polarity Foundation Certification,Polarity Professional Applications Certification
ATTACH;FMTTYPE=image/jpeg:https://www.xperienceit.com/wp-content/uploads/kayser-ridge-2018.jpg
ORGANIZER;CN="Cliff Kayser":MAILTO:ckayser@xperienceit.com
END:VEVENT
BEGIN:VEVENT
DTSTART;TZID=America/New_York:20191013T170000
DTEND;TZID=America/New_York:20191016T120000
DTSTAMP:20260426T002107
CREATED:20181216T002854Z
LAST-MODIFIED:20201031T145957Z
UID:12755-1570986000-1571227200@www.xperienceit.com
SUMMARY:Polarity Foundations and Professional Applications Certification
DESCRIPTION:Would you like to register or chat? Email ckayser@xperienceit.com
URL:https://www.xperienceit.com/event/polarity-foundations-and-professional-applications-certification-4/
LOCATION:Kayser Ridge Retreat & Learning Center\, 375 Breakthrough Lane\, Berkeley Springs\, WV\, 25411\, United States
CATEGORIES:Polarity Foundation Certification,Polarity Professional Applications Certification
ATTACH;FMTTYPE=image/jpeg:https://www.xperienceit.com/wp-content/uploads/kayser-ridge-2018.jpg
ORGANIZER;CN="Cliff Kayser":MAILTO:ckayser@xperienceit.com
END:VEVENT
BEGIN:VEVENT
DTSTART;TZID=America/New_York:20190815T170000
DTEND;TZID=America/New_York:20190818T170000
DTSTAMP:20260426T002107
CREATED:20181216T002544Z
LAST-MODIFIED:20201031T150007Z
UID:12753-1565888400-1566147600@www.xperienceit.com
SUMMARY:Polarity Foundations and Professional Applications Certification
DESCRIPTION:Would you like to register or chat? Email ckayser@xperienceit.com
URL:https://www.xperienceit.com/event/polarity-foundations-and-professional-applications-certification-3/
LOCATION:Kayser Ridge Retreat & Learning Center\, 375 Breakthrough Lane\, Berkeley Springs\, WV\, 25411\, United States
CATEGORIES:Polarity Foundation Certification,Polarity Professional Applications Certification
ATTACH;FMTTYPE=image/jpeg:https://www.xperienceit.com/wp-content/uploads/kayser-ridge-2018.jpg
ORGANIZER;CN="Cliff Kayser":MAILTO:ckayser@xperienceit.com
END:VEVENT
BEGIN:VEVENT
DTSTART;TZID=America/New_York:20190526T170000
DTEND;TZID=America/New_York:20190529T120000
DTSTAMP:20260426T002107
CREATED:20181123T140908Z
LAST-MODIFIED:20201031T150045Z
UID:12684-1558890000-1559131200@www.xperienceit.com
SUMMARY:Polarity Foundations and Professional Applications Certification
DESCRIPTION:Would you like to register or chat? Email ckayser@xperienceit.com
URL:https://www.xperienceit.com/event/polarity-foundations-and-professional-applications-certification/
LOCATION:Kayser Ridge Retreat & Learning Center\, 375 Breakthrough Lane\, Berkeley Springs\, WV\, 25411\, United States
CATEGORIES:Polarity Foundation Certification,Polarity Professional Applications Certification
ATTACH;FMTTYPE=image/jpeg:https://www.xperienceit.com/wp-content/uploads/kayser-ridge-2018.jpg
ORGANIZER;CN="Cliff Kayser":MAILTO:ckayser@xperienceit.com
END:VEVENT
BEGIN:VEVENT
DTSTART;TZID=America/New_York:20181017T113000
DTEND;TZID=America/New_York:20181017T123000
DTSTAMP:20260426T002107
CREATED:20180919T154922Z
LAST-MODIFIED:20201031T150038Z
UID:12596-1539775800-1539779400@www.xperienceit.com
SUMMARY:Polarity Keys to Mentorship Program Success
DESCRIPTION:Presented at The International Association of Clinical Research Nurses (IACRN) 10th Anniversary Conference \n11:30 am – 12:30 pm \nPlenary Speaker: Polarity Keys to Mentorship Program Success (Crystal Ballroom\, lobby level) \nCliff Kayser\, MSHR\, MSOD\, PCC \nPresident & Founder\, Xperience\, LLC \n 
URL:https://www.xperienceit.com/event/polarity-keys-to-mentorship-program-success/
LOCATION:DoubleTree by Hilton Hotel\, 300 Army Navy Dr\, Arlington\, VA\, 22202\, United States
CATEGORIES:Speaking Engagement
ATTACH;FMTTYPE=image/jpeg:https://www.xperienceit.com/wp-content/uploads/stia2013-kayser2.jpg
END:VEVENT
BEGIN:VEVENT
DTSTART;TZID=America/New_York:20181012T140000
DTEND;TZID=America/New_York:20181014T150000
DTSTAMP:20260426T002107
CREATED:20180716T142855Z
LAST-MODIFIED:20201031T150027Z
UID:12249-1539352800-1539529200@www.xperienceit.com
SUMMARY:Stepping Into Purpose Retreat — A Weekend in Nature
DESCRIPTION:Is this a time of transition in your life? Are you interested in being clearer about what you want in your life and your purpose? Is it time to slow down and listen deeply? Come join us! \nDates: Friday\, October 12\, 2018 2pm – Sunday\, October 14\, 2018 3pm \nThe Retreat\n\nWork with a model for wholeness that draws on the four seasons and directions of the compass\nStep into nature and your senses – this can be hiking\, walking\, or sitting in community and alone\nBe introduced to rituals and practices that can enhance your inquiry\, exploration\, intuition\, sense of fun and imagination\nExperience a supportive community that enhances your experience through story-telling\, mirroring and sharing of intentions.\nIf interested\, sample different types of meditation\, Tai Chi\, poetry\, yoga and visual art\n\nWhy Nature?\nResearch has shown that simply being in nature enhances the positive emotions of joy\, awe\, optimism and courage. The energetic waves found in nature are those found in the human brain when in deep meditation. Nature de-stresses us and reminds us who we truly are. \nNature allows us to walk our talk\, to choose a different path\, to experience getting lost and finding our path again. Those lessons come from listening to our bodies\, hearts and souls. \nNature allows us to sharpen our senses and to have a more expansive\, deeper and slower experience. Nature doesn’t judge us or make meaning for us or nudge us in any way. Nature simply is – and in relationship to nature\, we can test ourselves\, listen to our inner voice and listen to what nature might even tell us about ourselves and our next steps\, life phases or paths. We come from nature – it is our home. \nWho are your guides?\nChristiane Frischmuth\, a certified wilderness rites of passage/vision fast guide\, coach\, team builder and Yoga Teacher with over 25 years of experience in guiding people to discover their true soul and bring it into being. She has participated in many vision fasts and wilderness rites of passage as well as survival training and wilderness first aid. She is an avid backpacker and hiker. \nCliff Kayser\, MSHR/OD\, PCC a professionally certified coach\, polarity thinking teacher and practitioner with thirty years of experience as an organizational development working with leaders\, teams\, and organizations. Cliff has practiced Tai Chi for 30 years and has a deep appreciation for eastern philosophies and wisdom teachings. \nSally Colella\, MA\, PCC is a profesionally trained facilitator\, coach\, meditation teacher and yoga instructor. With over more than thirty years of experience working with leaders and groups in global organizations\, she has coached thousands of individuals in finding deeper meaning in their lives\, work and relationships. \nLogistics\nWe will provide simple meals and accommodate those who eat fish/poultry\, vegans\, vegetarians and those who are gluten-free. We suggest eliminating or reducing alcohol and caffeine during the retreat to enhance your ability to tune into all your natural senses. \nWe will be based at the Lodge at Kayser Ridge. The large\, light-filled space includes a number of comfortable areas to gather together or reflect individually. Sleeping spaces range from single bedroom to dorm-style accommodations and all bathrooms are shared. There are two kitchens and storage space for personal food and beverage items. \nSpacious decks invite to experience open sunny views and starry nights. \nWhat are my payment options?\nFull payment for the program is $350. \n$100 Deposit due upon acceptance to program to secure your place. Payment is due in full by 8/30/2018. \nWe accept checks for payment. \nWould you like to register or chat? email sally@colellaassociates.com or christiane@gfconsulting.org
URL:https://www.xperienceit.com/event/stepping-into-purpose-retreat-a-weekend-in-nature/
LOCATION:Kayser Ridge Retreat & Learning Center\, 375 Breakthrough Lane\, Berkeley Springs\, WV\, 25411\, United States
CATEGORIES:Polarity Retreat
ATTACH;FMTTYPE=image/jpeg:https://www.xperienceit.com/wp-content/uploads/Aslider2.jpg
ORGANIZER;CN="Christiane Frischmuth":MAILTO:christiane@gfconsulting.org
END:VEVENT
BEGIN:VEVENT
DTSTART;TZID=America/New_York:20181002T180000
DTEND;TZID=America/New_York:20181002T193000
DTSTAMP:20260426T002107
CREATED:20180919T151303Z
LAST-MODIFIED:20201031T150055Z
UID:12591-1538503200-1538508600@www.xperienceit.com
SUMMARY:Leveraging Polarity Thinking for Coach and Client Development: Cultivating Competency for "Both/And" Thinking Webinar Series
DESCRIPTION:The International Coach Federation Maryland Chapter (ICF-MD) Professional Development Community of Practice Presents…\nLeveraging Polarity Thinking for Coach and Client Development: Cultivating Competency for “Both/And” Thinking Webinar Series\n\nPresenters: Cliff Kayser\, PCC and Joy Goldman\, RN\, MS\, PCC\nMonday\, September 17\, 2018 • 6:00 PM to 7:30 PM\nAND Tuesday\, October 2\, 2018 • 6:00 PM to 7:30 PM\nZoom Webinar: Two-Part Series\n** This is being offered as a two-part series\, with each webinar being offered as a stand-alone session as well. **\n$30 – ICF Member / Global Member | $40 – Non-Member (One Session ONLY)\n  \n$50 – ICF Member / Global Member | $60 – Non-Member\n(Webinar Series – Both 9/17 & 10/2 Sessions)\n*REGISTER HERE FOR WEBINAR SERIES*\nEarn 1.5 (each webinar) Core Competency CCEUs\nPolarities (aka Paradoxes\, Dilemmas\, Wicked Problems\, etc.) are unavoidable — we’re all “in” them\, whether we’re aware of them or not. When Polarities in issues and challenges are identified and leveraged well\, the end-goals and objectives can be attained with increased speed and sustainability. Coaches and Clients who leverage polarities well have a distinct performance advantage over the ones that don’t. \n9/17 kicks-off part one of a two-part series with an interactive focus on a key polarity all Coaches face in the coaching relationship. Learning and applying the Polarity Map® and process to a tension of our own\, will enable us to better apply the process with Clients. Part two on 10/2 brings attention to common polarity tensions Clients face and we’ll apply the same process interactively using the Polarity Map® to explore and organize the wisdom in the room. \nLearning objectives participants can expect to achieve are: \n\nImprove Coach and Client performance by providing an overview/awareness between solvable problems and unsolvable (but leverage-able) polarities;\nSimplify some of the complexity in the Coach / Client relationship;\nLearn how resistance in polarity tensions can be used as a resource; and\,\nSupport accelerating learning and development for Coaches and Clients.\n\nLearning Objectives:\nBy the end of part 1 (9/17 — COACH FOCUS)\, participants will be able to: \n\nDistinguish between solvable problems and unsolvable (but leverage-able) interdependent pairs or “polarities\,” and review a list of common polarities that all Coaches are “in”;\nSee and Map a polarity in the Coaching relationship using the Polarity Map®;\nSupport “leverage” (maximizing the upside benefits in the polarity tension and minimizing the downside limitations) by identifying Coaching Action Steps and Early Warning Signs.\n\nLearning Objectives:\nBy the end of part 2 (10/2 — CLIENT FOCUS)\, participants will be able to: \n\nDistinguish between a solvable problem and unsolvable interdependent pairs or “polarities\,” and review a list of common polarities that all Clients are “in”;\nSee and Map a polarity that has relevance for any client using the Polarity Map®;\n\nSupport “leverage” (maximizing the upside benefits and minimizing the downside limitations) by Identifying Coaching Action Steps and Early Warning Signs. \nParticipants will take a brief polarity assessment which will measure their perception of how well they leverage “Challenge” And “Support” in their coaching work. You will learn aggregate results during the webinars. This should only take five minutes or less to complete.
URL:https://www.xperienceit.com/event/leveraging-polarity-thinking-for-coach-and-client-development-cultivating-competency-for-both-and-thinking-webinar-series/
LOCATION:Zoom Webinar
CATEGORIES:Speaking Engagement,Webinar
ATTACH;FMTTYPE=image/jpeg:https://www.xperienceit.com/wp-content/uploads/cliff-portrait1.jpg
END:VEVENT
END:VCALENDAR